BEGIN:VCALENDAR
PRODID:-//Pixl8//Eventfolio//EN
VERSION:2.0
X-WR-TIMEZONE:Europe/London
CALSCALE:GREGORIAN
METHOD:PUBLISH
CLASS:PUBLIC
BEGIN:VTIMEZONE
TZID:Europe/London
LAST-MODIFIED:20260306T231828Z
TZURL:https://www.tzurl.org/zoneinfo-outlook/Europe/London
X-LIC-LOCATION:Europe/London
BEGIN:DAYLIGHT
TZNAME:BST
TZOFFSETFROM:+0000
TZOFFSETTO:+0100
DTSTART:19700329T010000
RRULE:FREQ=YEARLY;BYMONTH=3;BYDAY=-1SU
END:DAYLIGHT
BEGIN:STANDARD
TZNAME:GMT
TZOFFSETFROM:+0100
TZOFFSETTO:+0000
DTSTART:19701025T020000
RRULE:FREQ=YEARLY;BYMONTH=10;BYDAY=-1SU
END:STANDARD
END:VTIMEZONE
BEGIN:VEVENT
DTSTART;TZID=Europe/London:20250909T160000
DTEND;TZID=Europe/London:20250909T171500
DTSTAMP:20260421T141117Z
UID:{A5DE0EC1-3099-4CBA-B24232A3ACA1E98B}
LOCATION:Venue: RUSI\, 61 Whitehall
SUMMARY:Britain in the World
DESCRIPTION:Global Nation and RUSI have partnered to host a cross-party discussion on the role of the UK in the world.\n
 \n
 Event details: https://my.rusi.org/events/britain-in-the-world.html
PRIORITY:1
END:VEVENT
END:VCALENDAR