BEGIN:VCALENDAR
PRODID:-//Pixl8//Eventfolio//EN
VERSION:2.0
X-WR-TIMEZONE:Europe/London
CALSCALE:GREGORIAN
METHOD:PUBLISH
CLASS:PUBLIC
BEGIN:VTIMEZONE
TZID:Europe/London
LAST-MODIFIED:20260306T231828Z
TZURL:https://www.tzurl.org/zoneinfo-outlook/Europe/London
X-LIC-LOCATION:Europe/London
BEGIN:DAYLIGHT
TZNAME:BST
TZOFFSETFROM:+0000
TZOFFSETTO:+0100
DTSTART:19700329T010000
RRULE:FREQ=YEARLY;BYMONTH=3;BYDAY=-1SU
END:DAYLIGHT
BEGIN:STANDARD
TZNAME:GMT
TZOFFSETFROM:+0100
TZOFFSETTO:+0000
DTSTART:19701025T020000
RRULE:FREQ=YEARLY;BYMONTH=10;BYDAY=-1SU
END:STANDARD
END:VTIMEZONE
BEGIN:VEVENT
DTSTART;TZID=Europe/London:20250407T170000
DTEND;TZID=Europe/London:20250407T181500
DTSTAMP:20260420T061503Z
UID:{B0AFE32E-1C3F-4145-8AA50B019EF67175}
LOCATION:Venue: RUSI\, 61 Whitehall
SUMMARY:Chokepoints - How the Global Economy Became a Weapon of War
DESCRIPTION:Join Eddie Fishman for a discussion of his new book on the importance of examining how economic tools have become weapons of coercion and war.\n
 \n
 Event details: https://my.rusi.org/events/chokepoints-how-the-global-economy-became-a-weapon-of-war.html
PRIORITY:1
END:VEVENT
END:VCALENDAR