BEGIN:VCALENDAR
PRODID:-//Pixl8//Eventfolio//EN
VERSION:2.0
X-WR-TIMEZONE:Europe/London
CALSCALE:GREGORIAN
METHOD:PUBLISH
CLASS:PUBLIC
BEGIN:VTIMEZONE
TZID:Europe/London
LAST-MODIFIED:20260306T231828Z
TZURL:https://www.tzurl.org/zoneinfo-outlook/Europe/London
X-LIC-LOCATION:Europe/London
BEGIN:DAYLIGHT
TZNAME:BST
TZOFFSETFROM:+0000
TZOFFSETTO:+0100
DTSTART:19700329T010000
RRULE:FREQ=YEARLY;BYMONTH=3;BYDAY=-1SU
END:DAYLIGHT
BEGIN:STANDARD
TZNAME:GMT
TZOFFSETFROM:+0100
TZOFFSETTO:+0000
DTSTART:19701025T020000
RRULE:FREQ=YEARLY;BYMONTH=10;BYDAY=-1SU
END:STANDARD
END:VTIMEZONE
BEGIN:VEVENT
DTSTART;TZID=Europe/London:20260108T174500
DTEND;TZID=Europe/London:20260108T193000
DTSTAMP:20260422T030908Z
UID:{76BFED81-AFD9-4F78-814C3BA2F65714E2}
LOCATION:Venue: RUSI\, 61 Whitehall
SUMMARY:Disorder Podcast Live: What Disorder will 2026 Bring?
DESCRIPTION:A live Disorder podcast recording. Hosts and RUSI Associate Fellows Jason Pack and Arthur Snell will be joined by Jane Kinninmont and RUSI's Jonathan Eyal.\n
 \n
 Event details: https://my.rusi.org/events/disorder-podcast-live-what-disorder-will-2026-bring.html
PRIORITY:1
END:VEVENT
END:VCALENDAR