BEGIN:VCALENDAR
PRODID:-//Pixl8//Eventfolio//EN
VERSION:2.0
X-WR-TIMEZONE:Europe/London
CALSCALE:GREGORIAN
METHOD:PUBLISH
CLASS:PUBLIC
BEGIN:VTIMEZONE
TZID:Europe/London
LAST-MODIFIED:20260306T231828Z
TZURL:https://www.tzurl.org/zoneinfo-outlook/Europe/London
X-LIC-LOCATION:Europe/London
BEGIN:DAYLIGHT
TZNAME:BST
TZOFFSETFROM:+0000
TZOFFSETTO:+0100
DTSTART:19700329T010000
RRULE:FREQ=YEARLY;BYMONTH=3;BYDAY=-1SU
END:DAYLIGHT
BEGIN:STANDARD
TZNAME:GMT
TZOFFSETFROM:+0100
TZOFFSETTO:+0000
DTSTART:19701025T020000
RRULE:FREQ=YEARLY;BYMONTH=10;BYDAY=-1SU
END:STANDARD
END:VTIMEZONE
BEGIN:VEVENT
DTSTART;TZID=Europe/London:20250815T130000
DTEND;TZID=Europe/London:20250815T140000
DTSTAMP:20260419T152033Z
UID:{E97BAADB-4991-49EF-BD1B3E3347042845}
LOCATION:
SUMMARY:Exploring the UK-Japan Relationship, 80 Years After VJ Day
DESCRIPTION:Join an expert panel as they reflect on the 80th anniversary of VJ (Victory over Japan) Day and the UK-Japan relationship.\n
 \n
 Event details: https://my.rusi.org/events/exploring-the-uk-japan-relationship-80-years-after-vj-day.html
PRIORITY:1
END:VEVENT
END:VCALENDAR