BEGIN:VCALENDAR
PRODID:-//Pixl8//Eventfolio//EN
VERSION:2.0
X-WR-TIMEZONE:Europe/London
CALSCALE:GREGORIAN
METHOD:PUBLISH
CLASS:PUBLIC
BEGIN:VTIMEZONE
TZID:Europe/London
LAST-MODIFIED:20260306T231828Z
TZURL:https://www.tzurl.org/zoneinfo-outlook/Europe/London
X-LIC-LOCATION:Europe/London
BEGIN:DAYLIGHT
TZNAME:BST
TZOFFSETFROM:+0000
TZOFFSETTO:+0100
DTSTART:19700329T010000
RRULE:FREQ=YEARLY;BYMONTH=3;BYDAY=-1SU
END:DAYLIGHT
BEGIN:STANDARD
TZNAME:GMT
TZOFFSETFROM:+0100
TZOFFSETTO:+0000
DTSTART:19701025T020000
RRULE:FREQ=YEARLY;BYMONTH=10;BYDAY=-1SU
END:STANDARD
END:VTIMEZONE
BEGIN:VEVENT
DTSTART;TZID=Europe/London:20250624T130000
DTEND;TZID=Europe/London:20250624T140000
DTSTAMP:20260422T055403Z
UID:{EEAF5D1A-E034-4555-9393F047EA5C3D97}
LOCATION:Venue: RUSI\, 61 Whitehall
SUMMARY:Geoeconomics and the Role of the Royal Navy
DESCRIPTION:This year’s Gallipoli Memorial Lecture will be delivered by Vice Admiral Andrew Burns CB OBE, Fleet Commander, Royal Navy.\n
 \n
 Event details: https://my.rusi.org/events/geoeconomics-and-the-role-of-the-royal-navy.html
PRIORITY:1
END:VEVENT
END:VCALENDAR