BEGIN:VCALENDAR
PRODID:-//Pixl8//Eventfolio//EN
VERSION:2.0
X-WR-TIMEZONE:Europe/London
CALSCALE:GREGORIAN
METHOD:PUBLISH
CLASS:PUBLIC
BEGIN:VTIMEZONE
TZID:Europe/London
LAST-MODIFIED:20260306T231828Z
TZURL:https://www.tzurl.org/zoneinfo-outlook/Europe/London
X-LIC-LOCATION:Europe/London
BEGIN:DAYLIGHT
TZNAME:BST
TZOFFSETFROM:+0000
TZOFFSETTO:+0100
DTSTART:19700329T010000
RRULE:FREQ=YEARLY;BYMONTH=3;BYDAY=-1SU
END:DAYLIGHT
BEGIN:STANDARD
TZNAME:GMT
TZOFFSETFROM:+0100
TZOFFSETTO:+0000
DTSTART:19701025T020000
RRULE:FREQ=YEARLY;BYMONTH=10;BYDAY=-1SU
END:STANDARD
END:VTIMEZONE
BEGIN:VEVENT
DTSTART;TZID=Europe/London;VALUE=DATE:20211116
DTEND;TZID=Europe/London;VALUE=DATE:20211118
DTSTAMP:20260419T210739Z
UID:{D0F904C0-7702-4218-A5B00359CBA2049E}
LOCATION:
SUMMARY:Introduction to Nuclear Technology Autumn Workshop 2021
DESCRIPTION:The workshop consisted of a series of seminars from both RUSI staff and external speakers (Lockheed Martin, Babcock, UK National Nuclear Laboratory) covering the basics of nuclear technology including fuel cycles, nuclear weapons and delivery systems, security and safeguards.\n
 \n
 Event details: https://my.rusi.org/events/introduction-to-nuclear-technology-autumn-workshop-2021.html
PRIORITY:1
END:VEVENT
END:VCALENDAR