BEGIN:VCALENDAR
PRODID:-//Pixl8//Eventfolio//EN
VERSION:2.0
X-WR-TIMEZONE:Europe/London
CALSCALE:GREGORIAN
METHOD:PUBLISH
CLASS:PUBLIC
BEGIN:VTIMEZONE
TZID:Europe/London
LAST-MODIFIED:20260306T231828Z
TZURL:https://www.tzurl.org/zoneinfo-outlook/Europe/London
X-LIC-LOCATION:Europe/London
BEGIN:DAYLIGHT
TZNAME:BST
TZOFFSETFROM:+0000
TZOFFSETTO:+0100
DTSTART:19700329T010000
RRULE:FREQ=YEARLY;BYMONTH=3;BYDAY=-1SU
END:DAYLIGHT
BEGIN:STANDARD
TZNAME:GMT
TZOFFSETFROM:+0100
TZOFFSETTO:+0000
DTSTART:19701025T020000
RRULE:FREQ=YEARLY;BYMONTH=10;BYDAY=-1SU
END:STANDARD
END:VTIMEZONE
BEGIN:VEVENT
DTSTART;TZID=Europe/London:20221122T100000
DTEND;TZID=Europe/London:20221122T163000
DTSTAMP:20260420T194902Z
UID:{32D68AE1-2517-4732-AF4BAC358AF532A6}
LOCATION:Location: London
SUMMARY:Introduction to Nuclear Technology Workshop 2022
DESCRIPTION:UK PONI hosts its annual introductory workshop covering the basics of nuclear technology for early career professionals.\n
 \n
 Event details: https://my.rusi.org/events/introduction-to-nuclear-technology-workshop-2022.html
PRIORITY:1
END:VEVENT
END:VCALENDAR