BEGIN:VCALENDAR
PRODID:-//Pixl8//Eventfolio//EN
VERSION:2.0
X-WR-TIMEZONE:Europe/London
CALSCALE:GREGORIAN
METHOD:PUBLISH
CLASS:PUBLIC
BEGIN:VTIMEZONE
TZID:Europe/London
LAST-MODIFIED:20260306T231828Z
TZURL:https://www.tzurl.org/zoneinfo-outlook/Europe/London
X-LIC-LOCATION:Europe/London
BEGIN:DAYLIGHT
TZNAME:BST
TZOFFSETFROM:+0000
TZOFFSETTO:+0100
DTSTART:19700329T010000
RRULE:FREQ=YEARLY;BYMONTH=3;BYDAY=-1SU
END:DAYLIGHT
BEGIN:STANDARD
TZNAME:GMT
TZOFFSETFROM:+0100
TZOFFSETTO:+0000
DTSTART:19701025T020000
RRULE:FREQ=YEARLY;BYMONTH=10;BYDAY=-1SU
END:STANDARD
END:VTIMEZONE
BEGIN:VEVENT
DTSTART;TZID=Europe/London:20251008T160000
DTEND;TZID=Europe/London:20251008T170000
DTSTAMP:20260421T093637Z
UID:{FD087BCD-5273-42EC-83204DAF4B2B6EC0}
LOCATION:
SUMMARY:Online: 194th RUSI Annual General Meeting
DESCRIPTION:Notice is hereby given that the 194th Annual General Meeting of the Institute will take place on 8 October 2025 at 16:00 BST\n
 \n
 Event details: https://my.rusi.org/events/online-194th-rusi-annual-general-meeting.html
PRIORITY:1
END:VEVENT
END:VCALENDAR