BEGIN:VCALENDAR
PRODID:-//Pixl8//Eventfolio//EN
VERSION:2.0
X-WR-TIMEZONE:Europe/London
CALSCALE:GREGORIAN
METHOD:PUBLISH
CLASS:PUBLIC
BEGIN:VTIMEZONE
TZID:Europe/London
LAST-MODIFIED:20260306T231828Z
TZURL:https://www.tzurl.org/zoneinfo-outlook/Europe/London
X-LIC-LOCATION:Europe/London
BEGIN:DAYLIGHT
TZNAME:BST
TZOFFSETFROM:+0000
TZOFFSETTO:+0100
DTSTART:19700329T010000
RRULE:FREQ=YEARLY;BYMONTH=3;BYDAY=-1SU
END:DAYLIGHT
BEGIN:STANDARD
TZNAME:GMT
TZOFFSETFROM:+0100
TZOFFSETTO:+0000
DTSTART:19701025T020000
RRULE:FREQ=YEARLY;BYMONTH=10;BYDAY=-1SU
END:STANDARD
END:VTIMEZONE
BEGIN:VEVENT
DTSTART;TZID=Europe/London:20240619T140000
DTEND;TZID=Europe/London:20240619T150000
DTSTAMP:20260425T173228Z
UID:{2BF06F81-E07E-4417-A0D7469DD6A6B703}
LOCATION:
SUMMARY:Paper Launch: Charting Authoritarian Abuses of the FATF Standards
DESCRIPTION:Two new reports look at the transnational patterns of ‘authoritarian abuse’ of the FATF standards on anti-money laundering and countering terrorist financing.\n
 \n
 Event details: https://my.rusi.org/events/paper-launch-charting-authoritarian-abuses-of-the-fatf-standards.html
PRIORITY:1
END:VEVENT
END:VCALENDAR