BEGIN:VCALENDAR
PRODID:-//Pixl8//Eventfolio//EN
VERSION:2.0
X-WR-TIMEZONE:Europe/London
CALSCALE:GREGORIAN
METHOD:PUBLISH
CLASS:PUBLIC
BEGIN:VTIMEZONE
TZID:Europe/London
LAST-MODIFIED:20260306T231828Z
TZURL:https://www.tzurl.org/zoneinfo-outlook/Europe/London
X-LIC-LOCATION:Europe/London
BEGIN:DAYLIGHT
TZNAME:BST
TZOFFSETFROM:+0000
TZOFFSETTO:+0100
DTSTART:19700329T010000
RRULE:FREQ=YEARLY;BYMONTH=3;BYDAY=-1SU
END:DAYLIGHT
BEGIN:STANDARD
TZNAME:GMT
TZOFFSETFROM:+0100
TZOFFSETTO:+0000
DTSTART:19701025T020000
RRULE:FREQ=YEARLY;BYMONTH=10;BYDAY=-1SU
END:STANDARD
END:VTIMEZONE
BEGIN:VEVENT
DTSTART;TZID=Europe/London:20240227T090000
DTEND;TZID=Europe/London:20240227T140000
DTSTAMP:20260423T115938Z
UID:{9E6BAA74-C252-4909-BB70E35B81FC86B0}
LOCATION:Venue: RUSI\, 61 Whitehall
SUMMARY:President of Iceland on the Arctic and High North Security
DESCRIPTION:Join the President of Iceland and the Embassy of Iceland for a seminar on the Arctic and High North Security.\n
 \n
 Event details: https://my.rusi.org/events/president-of-iceland-on-the-arctic-and-high-north-security.html
PRIORITY:1
END:VEVENT
END:VCALENDAR