BEGIN:VCALENDAR
PRODID:-//Pixl8//Eventfolio//EN
VERSION:2.0
X-WR-TIMEZONE:Europe/London
CALSCALE:GREGORIAN
METHOD:PUBLISH
CLASS:PUBLIC
BEGIN:VTIMEZONE
TZID:Europe/London
LAST-MODIFIED:20260306T231828Z
TZURL:https://www.tzurl.org/zoneinfo-outlook/Europe/London
X-LIC-LOCATION:Europe/London
BEGIN:DAYLIGHT
TZNAME:BST
TZOFFSETFROM:+0000
TZOFFSETTO:+0100
DTSTART:19700329T010000
RRULE:FREQ=YEARLY;BYMONTH=3;BYDAY=-1SU
END:DAYLIGHT
BEGIN:STANDARD
TZNAME:GMT
TZOFFSETFROM:+0100
TZOFFSETTO:+0000
DTSTART:19701025T020000
RRULE:FREQ=YEARLY;BYMONTH=10;BYDAY=-1SU
END:STANDARD
END:VTIMEZONE
BEGIN:VEVENT
DTSTART;TZID=Europe/London:20240710T173000
DTEND;TZID=Europe/London:20240710T193000
DTSTAMP:20260421T093834Z
UID:{35847CC0-2A60-4D1F-B5201098B9E597B8}
LOCATION:Venue: RUSI\, 61 Whitehall
SUMMARY:Prince Philip Lecture 2024 and RUSI Members Summer Reception
DESCRIPTION:Major General Peter Rowell, Chief Executive and Commandant, Defence Academy of the UK, will give this year's Prince Philip Lecture on Military Education.\n
 \n
 Event details: https://my.rusi.org/events/prince-philip-lecture-2024-and-rusi-members-summer-reception.html
PRIORITY:1
END:VEVENT
END:VCALENDAR