BEGIN:VCALENDAR
PRODID:-//Pixl8//Eventfolio//EN
VERSION:2.0
X-WR-TIMEZONE:Europe/London
CALSCALE:GREGORIAN
METHOD:PUBLISH
CLASS:PUBLIC
BEGIN:VTIMEZONE
TZID:Europe/London
LAST-MODIFIED:20260306T231828Z
TZURL:https://www.tzurl.org/zoneinfo-outlook/Europe/London
X-LIC-LOCATION:Europe/London
BEGIN:DAYLIGHT
TZNAME:BST
TZOFFSETFROM:+0000
TZOFFSETTO:+0100
DTSTART:19700329T010000
RRULE:FREQ=YEARLY;BYMONTH=3;BYDAY=-1SU
END:DAYLIGHT
BEGIN:STANDARD
TZNAME:GMT
TZOFFSETFROM:+0100
TZOFFSETTO:+0000
DTSTART:19701025T020000
RRULE:FREQ=YEARLY;BYMONTH=10;BYDAY=-1SU
END:STANDARD
END:VTIMEZONE
BEGIN:VEVENT
DTSTART;TZID=Europe/London:20231026T163000
DTEND;TZID=Europe/London:20231026T173000
DTSTAMP:20260424T044739Z
UID:{DCB81126-EE43-4F86-AEC0EB9F237F7315}
LOCATION:Venue: RUSI\, 61 Whitehall
SUMMARY:Repairing Trust in Political Funding
DESCRIPTION:A panel discussion on trust and political funding with experts from the Centre for Financial Crime and Security Studies and Spotlight on Corruption.\n
 \n
 Event details: https://my.rusi.org/events/repairing-trust-in-political-funding.html
PRIORITY:1
END:VEVENT
END:VCALENDAR