BEGIN:VCALENDAR
PRODID:-//Pixl8//Eventfolio//EN
VERSION:2.0
X-WR-TIMEZONE:Europe/London
CALSCALE:GREGORIAN
METHOD:PUBLISH
CLASS:PUBLIC
BEGIN:VTIMEZONE
TZID:Europe/London
LAST-MODIFIED:20260306T231828Z
TZURL:https://www.tzurl.org/zoneinfo-outlook/Europe/London
X-LIC-LOCATION:Europe/London
BEGIN:DAYLIGHT
TZNAME:BST
TZOFFSETFROM:+0000
TZOFFSETTO:+0100
DTSTART:19700329T010000
RRULE:FREQ=YEARLY;BYMONTH=3;BYDAY=-1SU
END:DAYLIGHT
BEGIN:STANDARD
TZNAME:GMT
TZOFFSETFROM:+0100
TZOFFSETTO:+0000
DTSTART:19701025T020000
RRULE:FREQ=YEARLY;BYMONTH=10;BYDAY=-1SU
END:STANDARD
END:VTIMEZONE
BEGIN:VEVENT
DTSTART;TZID=Europe/London:20240520T090000
DTEND;TZID=Europe/London:20240520T170000
DTSTAMP:20260426T014152Z
UID:{C6DDA47F-F27E-4FC3-A487F64230723E36}
LOCATION:Venue: RUSI\, 61 Whitehall
SUMMARY:RUSI and École de Guerre Annual Research Collaboration 2024
DESCRIPTION:Join us for a day of presentations on the competition for talent, information warfare, industry in war, middle powers in an era of great power competition, societal resilience, and the Jeune École.\n
 \n
 Event details: https://my.rusi.org/events/rusi-and-cole-de-guerre-annual-research-collaboration-2024.html
PRIORITY:1
END:VEVENT
END:VCALENDAR