BEGIN:VCALENDAR
PRODID:-//Pixl8//Eventfolio//EN
VERSION:2.0
X-WR-TIMEZONE:Europe/London
CALSCALE:GREGORIAN
METHOD:PUBLISH
CLASS:PUBLIC
BEGIN:VTIMEZONE
TZID:Europe/London
LAST-MODIFIED:20260306T231828Z
TZURL:https://www.tzurl.org/zoneinfo-outlook/Europe/London
X-LIC-LOCATION:Europe/London
BEGIN:DAYLIGHT
TZNAME:BST
TZOFFSETFROM:+0000
TZOFFSETTO:+0100
DTSTART:19700329T010000
RRULE:FREQ=YEARLY;BYMONTH=3;BYDAY=-1SU
END:DAYLIGHT
BEGIN:STANDARD
TZNAME:GMT
TZOFFSETFROM:+0100
TZOFFSETTO:+0000
DTSTART:19701025T020000
RRULE:FREQ=YEARLY;BYMONTH=10;BYDAY=-1SU
END:STANDARD
END:VTIMEZONE
BEGIN:VEVENT
DTSTART;TZID=Europe/London:20241219T170000
DTEND;TZID=Europe/London:20241219T190000
DTSTAMP:20260422T010717Z
UID:{125891E6-6576-43CD-9D20AEC41B6DC9EA}
LOCATION:Venue: RUSI\, 61 Whitehall
SUMMARY:RUSI-École de Guerre Christmas Debate 2024
DESCRIPTION:Be part of the audience for our annual Christmas debate between RUSI experts and officers from École de Guerre.\n
 \n
 Event details: https://my.rusi.org/events/rusi-ecole-de-guerre-christmas-debate-2024.html
PRIORITY:1
END:VEVENT
END:VCALENDAR