BEGIN:VCALENDAR
PRODID:-//Pixl8//Eventfolio//EN
VERSION:2.0
X-WR-TIMEZONE:Europe/London
CALSCALE:GREGORIAN
METHOD:PUBLISH
CLASS:PUBLIC
BEGIN:VTIMEZONE
TZID:Europe/London
LAST-MODIFIED:20260306T231828Z
TZURL:https://www.tzurl.org/zoneinfo-outlook/Europe/London
X-LIC-LOCATION:Europe/London
BEGIN:DAYLIGHT
TZNAME:BST
TZOFFSETFROM:+0000
TZOFFSETTO:+0100
DTSTART:19700329T010000
RRULE:FREQ=YEARLY;BYMONTH=3;BYDAY=-1SU
END:DAYLIGHT
BEGIN:STANDARD
TZNAME:GMT
TZOFFSETFROM:+0100
TZOFFSETTO:+0000
DTSTART:19701025T020000
RRULE:FREQ=YEARLY;BYMONTH=10;BYDAY=-1SU
END:STANDARD
END:VTIMEZONE
BEGIN:VEVENT
DTSTART;TZID=Europe/London:20250116T170000
DTEND;TZID=Europe/London:20250116T190000
DTSTAMP:20260422T065936Z
UID:{A0E9FA0A-387D-40DF-87ADD0E7889B9268}
LOCATION:Venue: RUSI\, 61 Whitehall
SUMMARY:RUSI Library Tour for the NextGen Community 
DESCRIPTION:Join us for an exclusive tour of the RUSI Library.\n
 \n
 Event details: https://my.rusi.org/events/rusi-library-tour-for-the-nextgen-community.html
PRIORITY:1
END:VEVENT
END:VCALENDAR