BEGIN:VCALENDAR
PRODID:-//Pixl8//Eventfolio//EN
VERSION:2.0
X-WR-TIMEZONE:Europe/London
CALSCALE:GREGORIAN
METHOD:PUBLISH
CLASS:PUBLIC
BEGIN:VTIMEZONE
TZID:Europe/London
LAST-MODIFIED:20260306T231828Z
TZURL:https://www.tzurl.org/zoneinfo-outlook/Europe/London
X-LIC-LOCATION:Europe/London
BEGIN:DAYLIGHT
TZNAME:BST
TZOFFSETFROM:+0000
TZOFFSETTO:+0100
DTSTART:19700329T010000
RRULE:FREQ=YEARLY;BYMONTH=3;BYDAY=-1SU
END:DAYLIGHT
BEGIN:STANDARD
TZNAME:GMT
TZOFFSETFROM:+0100
TZOFFSETTO:+0000
DTSTART:19701025T020000
RRULE:FREQ=YEARLY;BYMONTH=10;BYDAY=-1SU
END:STANDARD
END:VTIMEZONE
BEGIN:VEVENT
DTSTART;TZID=Europe/London:20260408T110000
DTEND;TZID=Europe/London:20260408T160000
DTSTAMP:20260421T093200Z
UID:{A00C32EF-72C6-46A6-A1B424FB30FD7DC0.46120}
LOCATION:Venue: RUSI\, 61 Whitehall
SUMMARY:RUSI Library Volunteer Days 2026
DESCRIPTION:A chance for RUSI Members to visit our library at 61 Whitehall and help us organise our impressive collection.\n
 \n
 Event details: https://my.rusi.org/events/rusi-library-volunteer-days-2026.html
PRIORITY:1
END:VEVENT
BEGIN:VEVENT
DTSTART;TZID=Europe/London:20260422T110000
DTEND;TZID=Europe/London:20260422T160000
DTSTAMP:20260421T093200Z
UID:{A00C32EF-72C6-46A6-A1B424FB30FD7DC0.46134}
LOCATION:Venue: RUSI\, 61 Whitehall
SUMMARY:RUSI Library Volunteer Days 2026
DESCRIPTION:A chance for RUSI Members to visit our library at 61 Whitehall and help us organise our impressive collection.\n
 \n
 Event details: https://my.rusi.org/events/rusi-library-volunteer-days-2026.html
PRIORITY:1
END:VEVENT
BEGIN:VEVENT
DTSTART;TZID=Europe/London:20260512T110000
DTEND;TZID=Europe/London:20260512T160000
DTSTAMP:20260421T093200Z
UID:{A00C32EF-72C6-46A6-A1B424FB30FD7DC0.46154}
LOCATION:Venue: RUSI\, 61 Whitehall
SUMMARY:RUSI Library Volunteer Days 2026
DESCRIPTION:A chance for RUSI Members to visit our library at 61 Whitehall and help us organise our impressive collection.\n
 \n
 Event details: https://my.rusi.org/events/rusi-library-volunteer-days-2026.html
PRIORITY:1
END:VEVENT
BEGIN:VEVENT
DTSTART;TZID=Europe/London:20260526T110000
DTEND;TZID=Europe/London:20260526T160000
DTSTAMP:20260421T093200Z
UID:{A00C32EF-72C6-46A6-A1B424FB30FD7DC0.46168}
LOCATION:Venue: RUSI\, 61 Whitehall
SUMMARY:RUSI Library Volunteer Days 2026
DESCRIPTION:A chance for RUSI Members to visit our library at 61 Whitehall and help us organise our impressive collection.\n
 \n
 Event details: https://my.rusi.org/events/rusi-library-volunteer-days-2026.html
PRIORITY:1
END:VEVENT
BEGIN:VEVENT
DTSTART;TZID=Europe/London:20260612T110000
DTEND;TZID=Europe/London:20260612T160000
DTSTAMP:20260421T093200Z
UID:{A00C32EF-72C6-46A6-A1B424FB30FD7DC0.46185}
LOCATION:Venue: RUSI\, 61 Whitehall
SUMMARY:RUSI Library Volunteer Days 2026
DESCRIPTION:A chance for RUSI Members to visit our library at 61 Whitehall and help us organise our impressive collection.\n
 \n
 Event details: https://my.rusi.org/events/rusi-library-volunteer-days-2026.html
PRIORITY:1
END:VEVENT
BEGIN:VEVENT
DTSTART;TZID=Europe/London:20260622T110000
DTEND;TZID=Europe/London:20260622T160000
DTSTAMP:20260421T093200Z
UID:{A00C32EF-72C6-46A6-A1B424FB30FD7DC0.46195}
LOCATION:Venue: RUSI\, 61 Whitehall
SUMMARY:RUSI Library Volunteer Days 2026
DESCRIPTION:A chance for RUSI Members to visit our library at 61 Whitehall and help us organise our impressive collection.\n
 \n
 Event details: https://my.rusi.org/events/rusi-library-volunteer-days-2026.html
PRIORITY:1
END:VEVENT
BEGIN:VEVENT
DTSTART;TZID=Europe/London:20260708T110000
DTEND;TZID=Europe/London:20260708T160000
DTSTAMP:20260421T093200Z
UID:{A00C32EF-72C6-46A6-A1B424FB30FD7DC0.46211}
LOCATION:Venue: RUSI\, 61 Whitehall
SUMMARY:RUSI Library Volunteer Days 2026
DESCRIPTION:A chance for RUSI Members to visit our library at 61 Whitehall and help us organise our impressive collection.\n
 \n
 Event details: https://my.rusi.org/events/rusi-library-volunteer-days-2026.html
PRIORITY:1
END:VEVENT
BEGIN:VEVENT
DTSTART;TZID=Europe/London:20260723T110000
DTEND;TZID=Europe/London:20260723T160000
DTSTAMP:20260421T093200Z
UID:{A00C32EF-72C6-46A6-A1B424FB30FD7DC0.46226}
LOCATION:Venue: RUSI\, 61 Whitehall
SUMMARY:RUSI Library Volunteer Days 2026
DESCRIPTION:A chance for RUSI Members to visit our library at 61 Whitehall and help us organise our impressive collection.\n
 \n
 Event details: https://my.rusi.org/events/rusi-library-volunteer-days-2026.html
PRIORITY:1
END:VEVENT
BEGIN:VEVENT
DTSTART;TZID=Europe/London:20260727T110000
DTEND;TZID=Europe/London:20260727T160000
DTSTAMP:20260421T093200Z
UID:{A00C32EF-72C6-46A6-A1B424FB30FD7DC0.46230}
LOCATION:Venue: RUSI\, 61 Whitehall
SUMMARY:RUSI Library Volunteer Days 2026
DESCRIPTION:A chance for RUSI Members to visit our library at 61 Whitehall and help us organise our impressive collection.\n
 \n
 Event details: https://my.rusi.org/events/rusi-library-volunteer-days-2026.html
PRIORITY:1
END:VEVENT
BEGIN:VEVENT
DTSTART;TZID=Europe/London:20260803T110000
DTEND;TZID=Europe/London:20260803T160000
DTSTAMP:20260421T093200Z
UID:{A00C32EF-72C6-46A6-A1B424FB30FD7DC0.46237}
LOCATION:Venue: RUSI\, 61 Whitehall
SUMMARY:RUSI Library Volunteer Days 2026
DESCRIPTION:A chance for RUSI Members to visit our library at 61 Whitehall and help us organise our impressive collection.\n
 \n
 Event details: https://my.rusi.org/events/rusi-library-volunteer-days-2026.html
PRIORITY:1
END:VEVENT
END:VCALENDAR