BEGIN:VCALENDAR
PRODID:-//Pixl8//Eventfolio//EN
VERSION:2.0
X-WR-TIMEZONE:Europe/London
CALSCALE:GREGORIAN
METHOD:PUBLISH
CLASS:PUBLIC
BEGIN:VTIMEZONE
TZID:Europe/London
LAST-MODIFIED:20260306T231828Z
TZURL:https://www.tzurl.org/zoneinfo-outlook/Europe/London
X-LIC-LOCATION:Europe/London
BEGIN:DAYLIGHT
TZNAME:BST
TZOFFSETFROM:+0000
TZOFFSETTO:+0100
DTSTART:19700329T010000
RRULE:FREQ=YEARLY;BYMONTH=3;BYDAY=-1SU
END:DAYLIGHT
BEGIN:STANDARD
TZNAME:GMT
TZOFFSETFROM:+0100
TZOFFSETTO:+0000
DTSTART:19701025T020000
RRULE:FREQ=YEARLY;BYMONTH=10;BYDAY=-1SU
END:STANDARD
END:VTIMEZONE
BEGIN:VEVENT
DTSTART;TZID=Europe/London:20251014T090000
DTEND;TZID=Europe/London:20251014T190000
DTSTAMP:20260421T094925Z
UID:{FBB0F812-3FDC-43F1-B337519113E90826}
LOCATION:Venue: RUSI\, 61 Whitehall
SUMMARY:RUSI Military Technology Conference 2025
DESCRIPTION:This one-day conference provides a vital platform for rigorous, cross-sector dialogue on operationalising concepts and theory on the battlefield.\n
 \n
 Event details: https://my.rusi.org/events/rusi-military-technology-conference-2025.html
PRIORITY:1
END:VEVENT
END:VCALENDAR