BEGIN:VCALENDAR
PRODID:-//Pixl8//Eventfolio//EN
VERSION:2.0
X-WR-TIMEZONE:Europe/London
CALSCALE:GREGORIAN
METHOD:PUBLISH
CLASS:PUBLIC
BEGIN:VTIMEZONE
TZID:Europe/London
LAST-MODIFIED:20260306T231828Z
TZURL:https://www.tzurl.org/zoneinfo-outlook/Europe/London
X-LIC-LOCATION:Europe/London
BEGIN:DAYLIGHT
TZNAME:BST
TZOFFSETFROM:+0000
TZOFFSETTO:+0100
DTSTART:19700329T010000
RRULE:FREQ=YEARLY;BYMONTH=3;BYDAY=-1SU
END:DAYLIGHT
BEGIN:STANDARD
TZNAME:GMT
TZOFFSETFROM:+0100
TZOFFSETTO:+0000
DTSTART:19701025T020000
RRULE:FREQ=YEARLY;BYMONTH=10;BYDAY=-1SU
END:STANDARD
END:VTIMEZONE
BEGIN:VEVENT
DTSTART;TZID=Europe/London:20241009T084500
DTEND;TZID=Europe/London:20241009T180000
DTSTAMP:20260422T110625Z
UID:{703846CF-6C0F-4A70-83FCC090A19839E0}
LOCATION:Venue: RUSI\, 61 Whitehall
SUMMARY:Securing Cyberspace Conference - 9 Oct 2024
DESCRIPTION:Responsible Cyber Behaviour in Practice: A Global View\n
 \n
 Event details: https://my.rusi.org/events/securing-cyberspace-conference-9-oct-2024.html
PRIORITY:1
END:VEVENT
END:VCALENDAR