BEGIN:VCALENDAR
PRODID:-//Pixl8//Eventfolio//EN
VERSION:2.0
X-WR-TIMEZONE:Europe/London
CALSCALE:GREGORIAN
METHOD:PUBLISH
CLASS:PUBLIC
BEGIN:VTIMEZONE
TZID:Europe/London
LAST-MODIFIED:20260306T231828Z
TZURL:https://www.tzurl.org/zoneinfo-outlook/Europe/London
X-LIC-LOCATION:Europe/London
BEGIN:DAYLIGHT
TZNAME:BST
TZOFFSETFROM:+0000
TZOFFSETTO:+0100
DTSTART:19700329T010000
RRULE:FREQ=YEARLY;BYMONTH=3;BYDAY=-1SU
END:DAYLIGHT
BEGIN:STANDARD
TZNAME:GMT
TZOFFSETFROM:+0100
TZOFFSETTO:+0000
DTSTART:19701025T020000
RRULE:FREQ=YEARLY;BYMONTH=10;BYDAY=-1SU
END:STANDARD
END:VTIMEZONE
BEGIN:VEVENT
DTSTART;TZID=Europe/London:20260217T130000
DTEND;TZID=Europe/London:20260217T140000
DTSTAMP:20260422T055925Z
UID:{475F8994-5D49-4F19-AE4C5906CA3A243A}
LOCATION:
SUMMARY:Talking to China: The Future of UK-China Relations 
DESCRIPTION:A panel of RUSI experts will discuss the future of UK-China Relations.\n
 \n
 Event details: https://my.rusi.org/events/talking-to-china-the-future-of-uk-china-relations.html
PRIORITY:1
END:VEVENT
END:VCALENDAR