BEGIN:VCALENDAR
PRODID:-//Pixl8//Eventfolio//EN
VERSION:2.0
X-WR-TIMEZONE:Europe/London
CALSCALE:GREGORIAN
METHOD:PUBLISH
CLASS:PUBLIC
BEGIN:VTIMEZONE
TZID:Europe/London
LAST-MODIFIED:20260306T231828Z
TZURL:https://www.tzurl.org/zoneinfo-outlook/Europe/London
X-LIC-LOCATION:Europe/London
BEGIN:DAYLIGHT
TZNAME:BST
TZOFFSETFROM:+0000
TZOFFSETTO:+0100
DTSTART:19700329T010000
RRULE:FREQ=YEARLY;BYMONTH=3;BYDAY=-1SU
END:DAYLIGHT
BEGIN:STANDARD
TZNAME:GMT
TZOFFSETFROM:+0100
TZOFFSETTO:+0000
DTSTART:19701025T020000
RRULE:FREQ=YEARLY;BYMONTH=10;BYDAY=-1SU
END:STANDARD
END:VTIMEZONE
BEGIN:VEVENT
DTSTART;TZID=Europe/London:20240528T171500
DTEND;TZID=Europe/London:20240528T181500
DTSTAMP:20260421T182637Z
UID:{700F0A63-66EC-45C7-B1B5FFE03A459409}
LOCATION:Venue: RUSI\, 61 Whitehall
SUMMARY:The President of Latvia on NATO and Support to Ukraine
DESCRIPTION:An address by His Excellency Edgars Rinkēvičs, President of the Republic of Latvia, on NATO and support to Ukraine.\n
 \n
 Event details: https://my.rusi.org/events/the-president-of-latvia-on-nato-and-support-to-ukraine.html
PRIORITY:1
END:VEVENT
END:VCALENDAR