BEGIN:VCALENDAR
PRODID:-//Pixl8//Eventfolio//EN
VERSION:2.0
X-WR-TIMEZONE:Europe/London
CALSCALE:GREGORIAN
METHOD:PUBLISH
CLASS:PUBLIC
BEGIN:VTIMEZONE
TZID:Europe/London
LAST-MODIFIED:20260306T231828Z
TZURL:https://www.tzurl.org/zoneinfo-outlook/Europe/London
X-LIC-LOCATION:Europe/London
BEGIN:DAYLIGHT
TZNAME:BST
TZOFFSETFROM:+0000
TZOFFSETTO:+0100
DTSTART:19700329T010000
RRULE:FREQ=YEARLY;BYMONTH=3;BYDAY=-1SU
END:DAYLIGHT
BEGIN:STANDARD
TZNAME:GMT
TZOFFSETFROM:+0100
TZOFFSETTO:+0000
DTSTART:19701025T020000
RRULE:FREQ=YEARLY;BYMONTH=10;BYDAY=-1SU
END:STANDARD
END:VTIMEZONE
BEGIN:VEVENT
DTSTART;TZID=Europe/London:20260513T130000
DTEND;TZID=Europe/London:20260513T171500
DTSTAMP:20260423T185503Z
UID:{93DA09D7-A34A-452B-9F2D90CE4FADF363}
LOCATION:
SUMMARY:Training Course: Introduction to Nuclear Policy 
DESCRIPTION:The UK Project on Nuclear Issues (UK PONI) will host its annual introductory training course on nuclear weapons policy for early-career professionals.\n
 \n
 Event details: https://my.rusi.org/events/training-course-introduction-to-nuclear-policy.html
PRIORITY:1
END:VEVENT
END:VCALENDAR