BEGIN:VCALENDAR
PRODID:-//Pixl8//Eventfolio//EN
VERSION:2.0
X-WR-TIMEZONE:Europe/London
CALSCALE:GREGORIAN
METHOD:PUBLISH
CLASS:PUBLIC
BEGIN:VTIMEZONE
TZID:Europe/London
LAST-MODIFIED:20260306T231828Z
TZURL:https://www.tzurl.org/zoneinfo-outlook/Europe/London
X-LIC-LOCATION:Europe/London
BEGIN:DAYLIGHT
TZNAME:BST
TZOFFSETFROM:+0000
TZOFFSETTO:+0100
DTSTART:19700329T010000
RRULE:FREQ=YEARLY;BYMONTH=3;BYDAY=-1SU
END:DAYLIGHT
BEGIN:STANDARD
TZNAME:GMT
TZOFFSETFROM:+0100
TZOFFSETTO:+0000
DTSTART:19701025T020000
RRULE:FREQ=YEARLY;BYMONTH=10;BYDAY=-1SU
END:STANDARD
END:VTIMEZONE
BEGIN:VEVENT
DTSTART;TZID=Europe/London:20220503T090000
DTEND;TZID=Europe/London:20220503T170000
DTSTAMP:20260421T185857Z
UID:{E5CF1F0B-55C7-4D94-812B9BE3CAF31119}
LOCATION:Omaha\, Nebraska\, USA
SUMMARY:US PONI Capstone Conference
DESCRIPTION:Hosted at STRATCOM in Omaha, NE, this event was the final conference in the 2021 US PONI Conference Series.\n
 \n
 Event details: https://my.rusi.org/events/us-poni-capstone-conference.html
PRIORITY:1
END:VEVENT
END:VCALENDAR