BEGIN:VCALENDAR
PRODID:-//Pixl8//Eventfolio//EN
VERSION:2.0
X-WR-TIMEZONE:Europe/London
CALSCALE:GREGORIAN
METHOD:PUBLISH
CLASS:PUBLIC
BEGIN:VTIMEZONE
TZID:Europe/London
LAST-MODIFIED:20260306T231828Z
TZURL:https://www.tzurl.org/zoneinfo-outlook/Europe/London
X-LIC-LOCATION:Europe/London
BEGIN:DAYLIGHT
TZNAME:BST
TZOFFSETFROM:+0000
TZOFFSETTO:+0100
DTSTART:19700329T010000
RRULE:FREQ=YEARLY;BYMONTH=3;BYDAY=-1SU
END:DAYLIGHT
BEGIN:STANDARD
TZNAME:GMT
TZOFFSETFROM:+0100
TZOFFSETTO:+0000
DTSTART:19701025T020000
RRULE:FREQ=YEARLY;BYMONTH=10;BYDAY=-1SU
END:STANDARD
END:VTIMEZONE
BEGIN:VEVENT
DTSTART;TZID=Europe/London:20240618T123000
DTEND;TZID=Europe/London:20240618T134500
DTSTAMP:20260423T031007Z
UID:{629EA531-FCCA-4A56-88E2487151045B44}
LOCATION:
SUMMARY:Webinar: 2024: The Year of Elections
DESCRIPTION:Join our panel of experts online as they discuss the consequences of 64 countries going to the polls this year.\n
 \n
 Event details: https://my.rusi.org/events/webinar-2024-the-year-of-elections.html
PRIORITY:1
END:VEVENT
END:VCALENDAR