BEGIN:VCALENDAR
PRODID:-//Pixl8//Eventfolio//EN
VERSION:2.0
X-WR-TIMEZONE:Europe/London
CALSCALE:GREGORIAN
METHOD:PUBLISH
CLASS:PUBLIC
BEGIN:VTIMEZONE
TZID:Europe/London
LAST-MODIFIED:20260306T231828Z
TZURL:https://www.tzurl.org/zoneinfo-outlook/Europe/London
X-LIC-LOCATION:Europe/London
BEGIN:DAYLIGHT
TZNAME:BST
TZOFFSETFROM:+0000
TZOFFSETTO:+0100
DTSTART:19700329T010000
RRULE:FREQ=YEARLY;BYMONTH=3;BYDAY=-1SU
END:DAYLIGHT
BEGIN:STANDARD
TZNAME:GMT
TZOFFSETFROM:+0100
TZOFFSETTO:+0000
DTSTART:19701025T020000
RRULE:FREQ=YEARLY;BYMONTH=10;BYDAY=-1SU
END:STANDARD
END:VTIMEZONE
BEGIN:VEVENT
DTSTART;TZID=Europe/London:20241007T130000
DTEND;TZID=Europe/London:20241007T140000
DTSTAMP:20260423T115514Z
UID:{53890DD3-EDC0-4BA2-BF2B983DE5D56908}
LOCATION:
SUMMARY:Webinar: Israel–Hamas War – One Year On
DESCRIPTION:Join us online for an exclusive briefing by RUSI experts on the war between Israel and Hamas, one year on.\n
 \n
 Event details: https://my.rusi.org/events/webinar-israel-hamas-war-one-year-on.html
PRIORITY:1
END:VEVENT
END:VCALENDAR