BEGIN:VCALENDAR
PRODID:-//Pixl8//Eventfolio//EN
VERSION:2.0
X-WR-TIMEZONE:Europe/London
CALSCALE:GREGORIAN
METHOD:PUBLISH
CLASS:PUBLIC
BEGIN:VTIMEZONE
TZID:Europe/London
LAST-MODIFIED:20260306T231828Z
TZURL:https://www.tzurl.org/zoneinfo-outlook/Europe/London
X-LIC-LOCATION:Europe/London
BEGIN:DAYLIGHT
TZNAME:BST
TZOFFSETFROM:+0000
TZOFFSETTO:+0100
DTSTART:19700329T010000
RRULE:FREQ=YEARLY;BYMONTH=3;BYDAY=-1SU
END:DAYLIGHT
BEGIN:STANDARD
TZNAME:GMT
TZOFFSETFROM:+0100
TZOFFSETTO:+0000
DTSTART:19701025T020000
RRULE:FREQ=YEARLY;BYMONTH=10;BYDAY=-1SU
END:STANDARD
END:VTIMEZONE
BEGIN:VEVENT
DTSTART;TZID=Europe/London:20250324T110000
DTEND;TZID=Europe/London:20250324T120000
DTSTAMP:20260421T212010Z
UID:{01C7D0DD-2406-4FEC-B5A2E0731DD7E5F9}
LOCATION:
SUMMARY:Webinar: RUSI Experts on a New Era for UK Defence
DESCRIPTION:Join an expert panel as they consider the possible outcomes of the UK Strategic Defence Review.\n
 \n
 Event details: https://my.rusi.org/events/webinar-rusi-experts-on-a-new-era-for-uk-defence.html
PRIORITY:1
END:VEVENT
END:VCALENDAR