BEGIN:VCALENDAR
PRODID:-//Pixl8//Eventfolio//EN
VERSION:2.0
X-WR-TIMEZONE:Europe/London
CALSCALE:GREGORIAN
METHOD:PUBLISH
CLASS:PUBLIC
BEGIN:VTIMEZONE
TZID:Europe/London
LAST-MODIFIED:20260306T231828Z
TZURL:https://www.tzurl.org/zoneinfo-outlook/Europe/London
X-LIC-LOCATION:Europe/London
BEGIN:DAYLIGHT
TZNAME:BST
TZOFFSETFROM:+0000
TZOFFSETTO:+0100
DTSTART:19700329T010000
RRULE:FREQ=YEARLY;BYMONTH=3;BYDAY=-1SU
END:DAYLIGHT
BEGIN:STANDARD
TZNAME:GMT
TZOFFSETFROM:+0100
TZOFFSETTO:+0000
DTSTART:19701025T020000
RRULE:FREQ=YEARLY;BYMONTH=10;BYDAY=-1SU
END:STANDARD
END:VTIMEZONE
BEGIN:VEVENT
DTSTART;TZID=Europe/London:20260320T140000
DTEND;TZID=Europe/London:20260320T150000
DTSTAMP:20260421T141509Z
UID:{58AE3B6E-AFF3-42B8-A33B7476595E93BC}
LOCATION:
SUMMARY:Webinar: Terrorist Financing in the Age of Large Language Models
DESCRIPTION:The webinar explores how terrorists could exploit LLMs for fundraising, examining risks, current AI misuse, platform safeguards, and strategies to detect and disrupt illicit activities.\n
 \n
 Event details: https://my.rusi.org/events/webinar-terrorist-financing-in-the-age-of-large-language-models.html
PRIORITY:1
END:VEVENT
END:VCALENDAR