BEGIN:VCALENDAR
PRODID:-//Pixl8//Eventfolio//EN
VERSION:2.0
X-WR-TIMEZONE:Europe/London
CALSCALE:GREGORIAN
METHOD:PUBLISH
CLASS:PUBLIC
BEGIN:VTIMEZONE
TZID:Europe/London
LAST-MODIFIED:20260306T231828Z
TZURL:https://www.tzurl.org/zoneinfo-outlook/Europe/London
X-LIC-LOCATION:Europe/London
BEGIN:DAYLIGHT
TZNAME:BST
TZOFFSETFROM:+0000
TZOFFSETTO:+0100
DTSTART:19700329T010000
RRULE:FREQ=YEARLY;BYMONTH=3;BYDAY=-1SU
END:DAYLIGHT
BEGIN:STANDARD
TZNAME:GMT
TZOFFSETFROM:+0100
TZOFFSETTO:+0000
DTSTART:19701025T020000
RRULE:FREQ=YEARLY;BYMONTH=10;BYDAY=-1SU
END:STANDARD
END:VTIMEZONE
BEGIN:VEVENT
DTSTART;TZID=Europe/London:20260121T160000
DTEND;TZID=Europe/London:20260121T170000
DTSTAMP:20260421T100628Z
UID:{84CA34DE-B6CA-4CF1-854CFF926C6C15AC}
LOCATION:
SUMMARY:Webinar: What Happens in Geostationary Orbit Doesn’t Stay There
DESCRIPTION:An expert panel will explore the notable increase in close encounters involving Chinese satellites in geostationary orbit and how to mitigate risks.\n
 \n
 Event details: https://my.rusi.org/events/webinar-what-happens-in-geostationary-orbit-doesn-t-stay-there.html
PRIORITY:1
END:VEVENT
END:VCALENDAR