BEGIN:VCALENDAR
PRODID:-//Pixl8//Eventfolio//EN
VERSION:2.0
X-WR-TIMEZONE:Europe/London
CALSCALE:GREGORIAN
METHOD:PUBLISH
CLASS:PUBLIC
BEGIN:VTIMEZONE
TZID:Europe/London
LAST-MODIFIED:20260306T231828Z
TZURL:https://www.tzurl.org/zoneinfo-outlook/Europe/London
X-LIC-LOCATION:Europe/London
BEGIN:DAYLIGHT
TZNAME:BST
TZOFFSETFROM:+0000
TZOFFSETTO:+0100
DTSTART:19700329T010000
RRULE:FREQ=YEARLY;BYMONTH=3;BYDAY=-1SU
END:DAYLIGHT
BEGIN:STANDARD
TZNAME:GMT
TZOFFSETFROM:+0100
TZOFFSETTO:+0000
DTSTART:19701025T020000
RRULE:FREQ=YEARLY;BYMONTH=10;BYDAY=-1SU
END:STANDARD
END:VTIMEZONE
BEGIN:VEVENT
DTSTART;TZID=Europe/London:20240308T140000
DTEND;TZID=Europe/London:20240308T150000
DTSTAMP:20260426T041132Z
UID:{E4381A76-C94A-4811-AB877AD48D848A74}
LOCATION:
SUMMARY:Webinar: Women in Diplomacy: A Conversation with Jane Marriott
DESCRIPTION:Her Excellency Jane Marriott, British High Commissioner to Pakistan, discusses her varied career\n
 \n
 Event details: https://my.rusi.org/events/webinar-women-in-diplomacy-a-conversation-with-jane-marriott.html
PRIORITY:1
END:VEVENT
END:VCALENDAR